BEGIN:VCALENDAR
VERSION:2.0
PRODID:-//ChamberMaster//Event Calendar 2.0//EN
METHOD:PUBLISH
X-PUBLISHED-TTL:P3D
REFRESH-INTERVAL:P3D
CALSCALE:GREGORIAN
BEGIN:VEVENT
DTSTART;VALUE=DATE:20231103
DTEND;VALUE=DATE:20231104
TRANSP:TRANSPARENT
X-MICROSOFT-CDO-ALLDAYEVENT:TRUE
SUMMARY:Colquitt Regional Foundation's 31st Annual Golf Tournament
DESCRIPTION:Join us for our 31st Annual Golf Tournament!
X-ALT-DESC;FMTTYPE=text/html:Join us for our 31st Annual Golf Tournament!
LOCATION:Sunset Country Club 2730 South Main Street Moultrie\, GA 31768
UID:e.570.13181
SEQUENCE:3
DTSTAMP:20260424T151929Z
URL:https://business.moultriechamber.com/events/details/colquitt-regional-foundation-s-31st-annual-golf-tournament-13181
END:VEVENT

END:VCALENDAR
