BEGIN:VCALENDAR
VERSION:2.0
PRODID:-//ChamberMaster//Event Calendar 2.0//EN
METHOD:PUBLISH
X-PUBLISHED-TTL:P3D
REFRESH-INTERVAL:P3D
CALSCALE:GREGORIAN
BEGIN:VEVENT
DTSTART:20230318T120000Z
DTEND:20230318T150000Z
X-MICROSOFT-CDO-ALLDAYEVENT:FALSE
SUMMARY:Colquitt Regional 2nd Annual St. Patty K
DESCRIPTION:A 5K and 1-mile Fun Run to benefit the Colquitt Regional Medical Foundation. Your contribution will aid our greatest need. We are currently underway in building a two-story\, 39\,000-square-foot medical education building. It will be utilized by many medical students\, including physicians\, nurses\, paramedics\, and nurse assistants\, who will benefit from hands-on learning experiences through state-of-the-art simulation labs. In addition\, the building will be the new home to Georgia South Graduate Medical Education for our residency programs and clinic. Sign up by March 9\, 2023\, to be guaranteed a t-shirt. *Registration fees are non-refundable* T-shirts are included for 5K and Virtual 5K races. Fun Run shirts will be optional for an additional 15 dollars. The route starts at 1 Magnolia Court in Moultrie\, Georgia. Submissions for the virtual 5K will be accepted until March 20\, 2023\, at 12:00 PM. Race Times: 5K - 8 AM to 9 AM 1 Mile Fun Run - 9:15 AM to 9:45 AM Virtual 5K - March 12th at 8 AM until March 18th at 12 PM
X-ALT-DESC;FMTTYPE=text/html:A 5K and 1-mile Fun Run to benefit the Colquitt Regional Medical Foundation. Your contribution will aid our greatest need. We are currently underway in building a two-story\, 39\,000-square-foot medical education building. It will be utilized by many medical students\, including physicians\, nurses\, paramedics\, and nurse assistants\, who will benefit from hands-on learning experiences through state-of-the-art simulation labs. In addition\, the building will be the new home to Georgia South Graduate Medical Education for our residency programs and clinic. Sign up by March 9\, 2023\, to be guaranteed a t-shirt. *Registration fees are non-refundable* T-shirts are included for 5K and Virtual 5K races. Fun Run shirts will be optional for an additional 15 dollars. The route starts at 1 Magnolia Court in Moultrie\, Georgia. Submissions for the virtual 5K will be accepted until March 20\, 2023\, at 12:00 PM. Race Times: 5K - 8 AM to 9 AM 1 Mile Fun Run - 9:15 AM to 9:45 AM Virtual 5K - March 12th at 8 AM until March 18th at 12 PM
LOCATION:1 Magnolia Court Moultrie\, GA\, 31768
UID:e.570.13089
SEQUENCE:3
DTSTAMP:20260425T010119Z
URL:https://business.moultriechamber.com/events/details/colquitt-regional-2nd-annual-st-patty-k-13089
END:VEVENT

END:VCALENDAR
