BEGIN:VCALENDAR
VERSION:2.0
PRODID:-//ChamberMaster//Event Calendar 2.0//EN
METHOD:PUBLISH
X-PUBLISHED-TTL:P3D
REFRESH-INTERVAL:P3D
CALSCALE:GREGORIAN
BEGIN:VEVENT
DTSTART:20260529T130000Z
DTEND:20260529T150000Z
X-MICROSOFT-CDO-ALLDAYEVENT:FALSE
SUMMARY:Colquitt EMC Touch-A-Truck
DESCRIPTION:Colquitt EMC will be hosting their first-ever Touch-A-Truck Event on May 29 at their Headquarters Office in Moultrie. This fun\, family-friendly event gives kids and kids-at-heart the chance to see trucks and tractors up close\, chat with a lineman\, and learn more about the equipment used to restore power.\n\nMake plans to attend and enjoy this unique community event!
X-ALT-DESC;FMTTYPE=text/html:&nbsp\;\n<p data-end="381" data-start="76"><span style="font-family:tahoma\;"><span style="font-size:16px\;">Colquitt EMC will be hosting their first-ever Touch-A-Truck Event on May 29 at their Headquarters Office in Moultrie. This fun\, family-friendly event gives kids and kids-at-heart the chance to see trucks and tractors up close\, chat with a lineman\, and learn more about the equipment used to restore power.</span></span></p>\n\n<p data-end="442" data-is-last-node="" data-is-only-node="" data-start="383"><span style="font-family:tahoma\;"><span style="font-size:16px\;">Make plans to attend and enjoy this unique community event!</span></span></p>\n
LOCATION:Colquitt EMC's Headquarters Office
UID:e.570.13573
SEQUENCE:3
DTSTAMP:20260423T190611Z
URL:https://business.moultriechamber.com/events/details/colquitt-emc-touch-a-truck-13573
END:VEVENT

END:VCALENDAR
