BEGIN:VCALENDAR
VERSION:2.0
PRODID:-//ChamberMaster//Event Calendar 2.0//EN
METHOD:PUBLISH
X-PUBLISHED-TTL:P3D
REFRESH-INTERVAL:P3D
CALSCALE:GREGORIAN
BEGIN:VEVENT
DTSTART:20260818T120000Z
DTEND:20260818T143000Z
X-MICROSOFT-CDO-ALLDAYEVENT:FALSE
SUMMARY:Colquitt County Eggs & Issues
DESCRIPTION:Colquitt County Eggs & Issues is a community-wide event hosted by the Chamber\, designed to provide important updates from our State and Federal Legislators\, City and County Government\, Board of Education\, local colleges\, and healthcare leaders.\n\nPower-packed panels will share key updates\, innovative initiatives\, and information on available resources\, followed by audience Q&A sessions. Panel topics include Agriculture\, Education\, Government\, Healthcare\, and Next Gen.\n\nThis is a valuable opportunity for all business leaders to gain insight into current projects and future plans that impact our local business community. Breakfast will be served. Provided by Dalton's!\n\n\n\nBe a sponsor! Click here to see how you can get involved and show your support.
X-ALT-DESC;FMTTYPE=text/html:&nbsp\;\n<p data-end="297" data-start="49"><span style="font-size:18px\;"><span style="font-family:tahoma\;"><strong data-end="82" data-start="49">Colquitt County Eggs &amp\; Issues</strong> is a community-wide event hosted by the Chamber\, designed to provide important updates from our State and Federal Legislators\, City and County Government\, Board of Education\, local colleges\, and healthcare leaders.</span></span></p>\n\n<p data-end="526" data-start="299"><span style="font-size:18px\;"><span style="font-family:tahoma\;">Power-packed panels will share key updates\, innovative initiatives\, and information on available resources\, followed by audience Q&amp\;A sessions. Panel topics include Agriculture\, Education\,</span></span><span style="font-size:18px\;"><span style="font-family:tahoma\;">&nbsp\;Government\, Healthcare\, and Next Gen.</span></span></p>\n\n<p data-end="710" data-start="528"><span style="font-size:18px\;"><span style="font-family:tahoma\;">This is a valuable opportunity for all business leaders to gain insight into current projects and future plans that impact our local business community. <strong data-end="710" data-start="681">Breakfast will be served. Provided by Dalton&#39\;s!</strong><br />\n<br />\n<a href="https://chambermaster.blob.core.windows.net/userfiles/UserFiles/chambers/570/File/EggsIssues-Sponsors.png"><strong data-end="710" data-start="681">Be a sponsor! Click here to see how you can get involved and show your support.&nbsp\;</strong></a></span></span></p>\n
LOCATION:Southern Regional Technical College Conference Room
UID:e.570.13456
SEQUENCE:3
DTSTAMP:20260423T224531Z
URL:https://business.moultriechamber.com/events/details/colquitt-county-eggs-issues-13456
END:VEVENT

END:VCALENDAR
