BEGIN:VCALENDAR
VERSION:2.0
PRODID:-//ChamberMaster//Event Calendar 2.0//EN
METHOD:PUBLISH
X-PUBLISHED-TTL:P3D
REFRESH-INTERVAL:P3D
CALSCALE:GREGORIAN
BEGIN:VEVENT
DTSTART:20230419T120000Z
DTEND:20230419T140000Z
X-MICROSOFT-CDO-ALLDAYEVENT:FALSE
SUMMARY:Colquitt County Eggs & Issues
DESCRIPTION:Colquitt County Eggs & Issues will be a community wide event hosted by the Chamber that will provide updates from our State and Federal Legislators\, City and County Government\, Board of Education\, Colleges\, and Healthcare. This meeting is for all business leaders to get an insight on current projects and future plans for our business community. Breakfast will se served. To RSVP\, contact the Chamber at 985-2131.
X-ALT-DESC;FMTTYPE=text/html:Colquitt County Eggs &amp\; Issues will be a community wide event hosted by the Chamber that will provide updates from our State and Federal Legislators\, City and County Government\, Board of Education\, Colleges\, and Healthcare. This meeting is for all business leaders to get an insight on current projects and future plans for our business community. Breakfast will se served. To RSVP\, contact the Chamber at 985-2131.
LOCATION:TBD
UID:e.570.13050
SEQUENCE:3
DTSTAMP:20260424T233501Z
URL:https://business.moultriechamber.com/events/details/colquitt-county-eggs-issues-13050
END:VEVENT

END:VCALENDAR
