BEGIN:VCALENDAR
VERSION:2.0
PRODID:-//ChamberMaster//Event Calendar 2.0//EN
METHOD:PUBLISH
X-PUBLISHED-TTL:P3D
REFRESH-INTERVAL:P3D
CALSCALE:GREGORIAN
BEGIN:VEVENT
DTSTART:20250220T170000Z
DTEND:20250220T170000Z
X-MICROSOFT-CDO-ALLDAYEVENT:FALSE
SUMMARY:Colquitt County Double Gobble
DESCRIPTION:This is a fun event for the whole family where we celebrate our hunting heritage with a live auction and great food. Come join us!
X-ALT-DESC;FMTTYPE=text/html:<span style="font-size:14px\;"><span style="color: rgb(8\, 8\, 9)\; font-family: &quot\;Segoe UI Historic&quot\;\, &quot\;Segoe UI&quot\;\, Helvetica\, Arial\, sans-serif\;">This is a fun event for the whole family where we celebrate our hunting heritage with a live auction and great food. Come join us!</span></span>
LOCATION:Spence Field Family Living Building Moultrie\, Ga
UID:e.570.13332
SEQUENCE:3
DTSTAMP:20260423T202350Z
URL:https://business.moultriechamber.com/events/details/colquitt-county-double-gobble-13332
END:VEVENT

END:VCALENDAR
