BEGIN:VCALENDAR
VERSION:2.0
PRODID:-//ChamberMaster//Event Calendar 2.0//EN
METHOD:PUBLISH
X-PUBLISHED-TTL:P3D
REFRESH-INTERVAL:P3D
CALSCALE:GREGORIAN
BEGIN:VEVENT
DTSTART:20250130T124500Z
DTEND:20250130T124500Z
X-MICROSOFT-CDO-ALLDAYEVENT:FALSE
SUMMARY:Coffee & Commerce hosted by Prospex Promotions\, Inc
DESCRIPTION:Join us for a great opportunity to meet and connect with other businesses in our community. Meet - Mingle - Make Connections!!\n\nRSVP to receive a swag bag!
X-ALT-DESC;FMTTYPE=text/html:<span style="font-size:14px\;"><span style="color: rgb(8\, 8\, 9)\; font-family: &quot\;Segoe UI Historic&quot\;\, &quot\;Segoe UI&quot\;\, Helvetica\, Arial\, sans-serif\;">Join us for a great opportunity to meet and connect with other businesses in our community. Meet - Mingle - Make Connections!!</span><br class="html-br" style="color: rgb(8\, 8\, 9)\; font-family: &quot\;Segoe UI Historic&quot\;\, &quot\;Segoe UI&quot\;\, Helvetica\, Arial\, sans-serif\; font-size: 15px\;" />\n<span style="color: rgb(8\, 8\, 9)\; font-family: &quot\;Segoe UI Historic&quot\;\, &quot\;Segoe UI&quot\;\, Helvetica\, Arial\, sans-serif\;">RSVP to receive a swag bag!&nbsp\;</span></span>
LOCATION:Prospex Promotions\, Inc. 23 E Central Ave\, Moultrie\, GA 31768
UID:e.570.13298
SEQUENCE:3
DTSTAMP:20260423T213607Z
URL:https://business.moultriechamber.com/events/details/coffee-commerce-hosted-by-prospex-promotions-inc-13298
END:VEVENT

END:VCALENDAR
