BEGIN:VCALENDAR
VERSION:2.0
PRODID:-//ChamberMaster//Event Calendar 2.0//EN
METHOD:PUBLISH
X-PUBLISHED-TTL:P3D
REFRESH-INTERVAL:P3D
CALSCALE:GREGORIAN
BEGIN:VEVENT
DTSTART:20250909T114500Z
DTEND:20250909T124500Z
X-MICROSOFT-CDO-ALLDAYEVENT:FALSE
SUMMARY:Coffee & Commerce hosted by Moultrie Bank & Trust
DESCRIPTION:Join us for a great opportunity to meet and connect with other businesses in our community! \n\nMeet - Mingle - Make Connections!!
X-ALT-DESC;FMTTYPE=text/html:<br />\n<span style="font-size:18px\;">Join us for a great opportunity to meet and connect with other businesses in our community!&nbsp\;<br />\nMeet - Mingle - Make Connections!!&nbsp\;</span>
LOCATION:Moultrie Bank & Trust 600 N Veterans Pkwy\, Moultrie\, GA 31788
UID:e.570.13312
SEQUENCE:3
DTSTAMP:20260423T140835Z
URL:https://business.moultriechamber.com/events/details/coffee-commerce-hosted-by-moultrie-bank-trust-13312
END:VEVENT

END:VCALENDAR
