BEGIN:VCALENDAR
VERSION:2.0
PRODID:-//ChamberMaster//Event Calendar 2.0//EN
METHOD:PUBLISH
X-PUBLISHED-TTL:P3D
REFRESH-INTERVAL:P3D
CALSCALE:GREGORIAN
BEGIN:VEVENT
DTSTART:20251118T124500Z
DTEND:20251118T134500Z
X-MICROSOFT-CDO-ALLDAYEVENT:FALSE
SUMMARY:Coffee & Commerce hosted by Magnolia Manor South Retirement Center
DESCRIPTION:Join us for a great opportunity to meet and connect with other businesses in our community! \n\nMeet - Mingle - Make Connections!!
X-ALT-DESC;FMTTYPE=text/html:<br />\n<span style="color: rgb(68\, 68\, 68)\; font-family: Arial\, Helvetica\, sans-serif\; font-size: 18px\;">Join us for a great opportunity to meet and connect with other businesses in our community!&nbsp\;</span><br style="box-sizing: border-box\; color: rgb(68\, 68\, 68)\; font-family: Arial\, Helvetica\, sans-serif\; font-size: 18px\;" />\n<span style="color: rgb(68\, 68\, 68)\; font-family: Arial\, Helvetica\, sans-serif\; font-size: 18px\;">Meet - Mingle - Make Connections!!&nbsp\;</span>
LOCATION:3011 Veterans Pkwy\, Moultrie
UID:e.570.13316
SEQUENCE:3
DTSTAMP:20260419T122824Z
URL:https://business.moultriechamber.com/events/details/coffee-commerce-hosted-by-magnolia-manor-south-retirement-center-11-18-2025-13316
END:VEVENT

END:VCALENDAR
