BEGIN:VCALENDAR
VERSION:2.0
PRODID:-//ChamberMaster//Event Calendar 2.0//EN
METHOD:PUBLISH
X-PUBLISHED-TTL:P3D
REFRESH-INTERVAL:P3D
CALSCALE:GREGORIAN
BEGIN:VEVENT
DTSTART:20260414T114500Z
DTEND:20260414T124500Z
X-MICROSOFT-CDO-ALLDAYEVENT:FALSE
SUMMARY:Coffee & Commerce hosted by Life of Liberty\, Inc. Adult Day Program
DESCRIPTION:Coffee & Commerce is a great way to start your day while making meaningful business connections. This morning networking event offers a relaxed and welcoming environment to meet fellow professionals\, exchange ideas\, and grow relationships over a cup of coffee. Join us for an opportunity to connect with local businesses\, share insights\, and kick off your day with conversation and collaboration.\n\n\n\nMeet   Mingle   Make Connections! \n\n\n\n"At Life of Liberty\, we turn everyday learning into meaningful hands-on experiences. Our program blends core academics like math\, science\, English\, and history with creative arts\, fitness\, and American Sign Language to keep learning engaging and exciting. Participants also build real-life skills through cooking in our fully equipped kitchen\, learning laundry routines\, exploring self-care in our beauty room\, and developing digital skills in our computer and recreation space. With a focus on confidence\, independence\, and connection\, Life of Liberty is a place where individuals can learn\, grow\, and have fun every single day."
X-ALT-DESC;FMTTYPE=text/html:<span style="font-family:tahoma\;"><span style="font-size:16px\;"><font color="#080809">Co</font>ffee &amp\; Commerce is a great way to start your day while making meaningful business connections. This morning networking event offers a relaxed and welcoming environment to meet fellow professionals\, exchange ideas\, and grow relationships over a cup of coffee. Join us for an opportunity to connect with local businesses\, share insights\, and kick off your day with conversation and collaboration.</span></span><br />\n<br />\n<span style="color: rgb(68\, 68\, 68)\; font-family: Arial\, Helvetica\, sans-serif\; font-size: 16px\;">Meet &bull\; Mingle &bull\; Make Connections!&nbsp\;</span><br />\n<br />\n<span style="font-family:tahoma\;"><span style="font-size:16px\;">&quot\;At Life of Liberty\, we turn everyday learning into meaningful hands-on experiences. Our program blends core academics like math\, science\, English\, and history with creative arts\, fitness\, and American Sign Language to keep learning engaging and exciting. Participants also build real-life skills through cooking in our fully equipped kitchen\, learning laundry routines\, exploring self-care in our beauty room\, and developing digital skills in our computer and recreation space. With a focus on confidence\, independence\, and connection\, Life of Liberty is a place where individuals can learn\, grow\, and have fun every single day.&quot\;</span></span><br />\n&nbsp\;
LOCATION:Life of Liberty\, Inc. Adult Day Program 2516 5th Ave SE\, Moultrie
UID:e.570.13477
SEQUENCE:3
DTSTAMP:20260423T130150Z
URL:https://business.moultriechamber.com/events/details/coffee-commerce-hosted-by-life-of-liberty-inc-adult-day-program-13477
END:VEVENT

END:VCALENDAR
