BEGIN:VCALENDAR
VERSION:2.0
PRODID:-//ChamberMaster//Event Calendar 2.0//EN
METHOD:PUBLISH
X-PUBLISHED-TTL:P3D
REFRESH-INTERVAL:P3D
CALSCALE:GREGORIAN
BEGIN:VEVENT
DTSTART:20251030T114500Z
DTEND:20251030T124500Z
X-MICROSOFT-CDO-ALLDAYEVENT:FALSE
SUMMARY:Coffee & Commerce hosted by Hope House Women's Clinic
DESCRIPTION:Join us for a great opportunity to meet and connect with other businesses in our community! Meet - Mingle - Make Connections!!
X-ALT-DESC;FMTTYPE=text/html:<br />\n<span style="font-size:18px\;"><span style="color: rgb(71\, 71\, 71)\; font-family: Roboto\, Arial\, sans-serif\;">Join us for a great opportunity to meet and connect with other businesses in our community! Meet - Mingle - Make Connections!!&nbsp\;</span></span>
LOCATION:Hope House Women's Clinic 716 5th Ave SE\, Moultrie\, GA 31768
UID:e.570.13315
SEQUENCE:3
DTSTAMP:20260423T152205Z
URL:https://business.moultriechamber.com/events/details/coffee-commerce-hosted-by-hope-house-women-s-clinic-13315
END:VEVENT

END:VCALENDAR
