BEGIN:VCALENDAR
VERSION:2.0
PRODID:-//ChamberMaster//Event Calendar 2.0//EN
METHOD:PUBLISH
X-PUBLISHED-TTL:P3D
REFRESH-INTERVAL:P3D
CALSCALE:GREGORIAN
BEGIN:VEVENT
DTSTART:20241029T114500Z
DTEND:20241029T124500Z
X-MICROSOFT-CDO-ALLDAYEVENT:FALSE
SUMMARY:Coffee & Commerce Hosted by Conger LP Gas
DESCRIPTION:Join us for a great opportunity to meet and connect with other businesses in our community. Meet - Mingle - Make Connections!!
X-ALT-DESC;FMTTYPE=text/html:<span style="font-family:times new roman\;"><span style="font-size:16px\;"><span style="color: rgb(57\, 54\, 79)\; font-variant-ligatures: none\;">Join us for a great opportunity to meet and connect with other businesses in our community. Meet - Mingle - Make Connections!!</span></span></span>
LOCATION:Conger LP Gas 3117 S Veterans Pkwy\, Moultrie\, GA
UID:e.570.13296
SEQUENCE:3
DTSTAMP:20260424T012542Z
URL:https://business.moultriechamber.com/events/details/coffee-commerce-hosted-by-conger-lp-gas-13296
END:VEVENT

END:VCALENDAR
