BEGIN:VCALENDAR
VERSION:2.0
PRODID:-//ChamberMaster//Event Calendar 2.0//EN
METHOD:PUBLISH
X-PUBLISHED-TTL:P3D
REFRESH-INTERVAL:P3D
CALSCALE:GREGORIAN
BEGIN:VEVENT
DTSTART:20250828T114500Z
DTEND:20250828T124500Z
X-MICROSOFT-CDO-ALLDAYEVENT:FALSE
SUMMARY:Coffee & Commerce hosted by Colquitt EMC
DESCRIPTION:Join us for a great opportunity to meet and connect with other businesses in our community! \n\nMeet - Mingle - Make Connections!!!
X-ALT-DESC;FMTTYPE=text/html:<br />\n<span style="font-size:18px\;">Join us for a great opportunity to meet and connect with other businesses in our community!&nbsp\;<br />\nMeet - Mingle - Make Connections!!!&nbsp\;</span>
LOCATION:Colquitt EMC 16 Rowland Drive\, Moultrie\, GA 31768
UID:e.570.13311
SEQUENCE:3
DTSTAMP:20260423T110557Z
URL:https://business.moultriechamber.com/events/details/coffee-commerce-hosted-by-colquitt-emc-08-28-2025-13311
END:VEVENT

END:VCALENDAR
