BEGIN:VCALENDAR
VERSION:2.0
PRODID:-//ChamberMaster//Event Calendar 2.0//EN
METHOD:PUBLISH
X-PUBLISHED-TTL:P3D
REFRESH-INTERVAL:P3D
CALSCALE:GREGORIAN
BEGIN:VEVENT
DTSTART:20261210T124500Z
DTEND:20261210T134500Z
X-MICROSOFT-CDO-ALLDAYEVENT:FALSE
SUMMARY:Coffee & Commerce hosted by Colquitt County Farm Bureau
DESCRIPTION:Coffee & Commerce is a great way to start your day while making meaningful business connections. This morning networking event offers a relaxed and welcoming environment to meet fellow professionals\, exchange ideas\, and grow relationships over a cup of coffee. Join us for an opportunity to connect with local businesses\, share insights\, and kick off your day with conversation and collaboration.\n\n\n\nMeet   Mingle   Make Connections!
X-ALT-DESC;FMTTYPE=text/html:<br />\n<span style="font-family:tahoma\;"><span style="font-size:16px\;"><font color="#080809">Co</font>ffee &amp\; Commerce is a great way to start your day while making meaningful business connections. This morning networking event offers a relaxed and welcoming environment to meet fellow professionals\, exchange ideas\, and grow relationships over a cup of coffee. Join us for an opportunity to connect with local businesses\, share insights\, and kick off your day with conversation and collaboration.</span></span><br />\n<br />\n<span style="color: rgb(68\, 68\, 68)\; font-family: Arial\, Helvetica\, sans-serif\; font-size: 16px\;">Meet &bull\; Mingle &bull\; Make Connections!</span>
LOCATION:1899 Sylvester Hwy\, Moultrie
UID:e.570.13485
SEQUENCE:3
DTSTAMP:20260424T041253Z
URL:https://business.moultriechamber.com/events/details/coffee-commerce-hosted-by-colquitt-county-farm-bureau-13485
END:VEVENT

END:VCALENDAR
