BEGIN:VCALENDAR
VERSION:2.0
PRODID:-//ChamberMaster//Event Calendar 2.0//EN
METHOD:PUBLISH
X-PUBLISHED-TTL:P3D
REFRESH-INTERVAL:P3D
CALSCALE:GREGORIAN
BEGIN:VEVENT
DTSTART:20231025T114500Z
DTEND:20231025T124500Z
X-MICROSOFT-CDO-ALLDAYEVENT:FALSE
SUMMARY:Coffee & Commerce
DESCRIPTION:Start your day with us as we have Coffee & Commerce on October 25th at Turner's Budget Furniture. This FREE networking event will provide opportunities to attendees to make connections and build strong business relationships. There will be drinks and light refreshments plus door prizes! RSVP at 985-2131 to have your name added to the attendee list.
X-ALT-DESC;FMTTYPE=text/html:Start your day with us as we have Coffee &amp\; Commerce on October 25th at Turner&#39\;s Budget Furniture. This FREE networking event will provide opportunities to attendees to make connections and build strong business relationships. There will be drinks and light refreshments plus door prizes! RSVP at 985-2131 to have your name added to the attendee list.
LOCATION:Turner's Budget Furniture 575 Veteran's Parkway N Moultrie\, GA
UID:e.570.13047
SEQUENCE:3
DTSTAMP:20260424T160104Z
URL:https://business.moultriechamber.com/events/details/coffee-commerce-10-25-2023-13047
END:VEVENT

END:VCALENDAR
