BEGIN:VCALENDAR
VERSION:2.0
PRODID:-//ChamberMaster//Event Calendar 2.0//EN
METHOD:PUBLISH
X-PUBLISHED-TTL:P3D
REFRESH-INTERVAL:P3D
CALSCALE:GREGORIAN
BEGIN:VEVENT
DTSTART:20230816T114500Z
DTEND:20230816T124500Z
X-MICROSOFT-CDO-ALLDAYEVENT:FALSE
SUMMARY:Coffee & Commerce
DESCRIPTION:Start your day with us as we have Coffee & Commerce on August 16th at Colquitt EMC. This FREE networking event will provide opportunities to attendees to make connections and build strong business relationships. There will be drinks and light refreshments plus door prizes! RSVP at 985-2131 to have your name added to the attendee list.
X-ALT-DESC;FMTTYPE=text/html:Start your day with us as we have Coffee &amp\; Commerce on August 16th at Colquitt EMC. This FREE networking event will provide opportunities to attendees to make connections and build strong business relationships. There will be drinks and light refreshments plus door prizes! RSVP at 985-2131 to have your name added to the attendee list.
LOCATION:Colquitt EMC 16 Rowland Drive Moultrie\, GA
UID:e.570.13046
SEQUENCE:3
DTSTAMP:20260424T193121Z
URL:https://business.moultriechamber.com/events/details/coffee-commerce-08-16-2023-13046
END:VEVENT

END:VCALENDAR
