BEGIN:VCALENDAR
VERSION:2.0
PRODID:-//ChamberMaster//Event Calendar 2.0//EN
METHOD:PUBLISH
X-PUBLISHED-TTL:P3D
REFRESH-INTERVAL:P3D
CALSCALE:GREGORIAN
BEGIN:VEVENT
DTSTART:20230216T124500Z
DTEND:20230216T134500Z
X-MICROSOFT-CDO-ALLDAYEVENT:FALSE
SUMMARY:Coffee & Commerce
DESCRIPTION:Start your day with us as we have Coffee & Commerce on Thursday\, Feb. 16th at Magnolia Manor South Retirement Center. This FREE networking event will provide opportunities to attendees to make connections and build strong business relationships. There will be drinks and light refreshments plus door prizes! RSVP at 985-2131 to have your name added to the attendee list.
X-ALT-DESC;FMTTYPE=text/html:Start your day with us as we have Coffee &amp\; Commerce on Thursday\, Feb. 16th at Magnolia Manor South Retirement Center. This FREE networking event will provide opportunities to attendees to make connections and build strong business relationships. There will be drinks and light refreshments plus door prizes! RSVP at 985-2131 to have your name added to the attendee list.
LOCATION:Magnolia Manor South Retirement Center 3011 Veterans Pkwy S Moultrie\, GA
UID:e.570.13045
SEQUENCE:3
DTSTAMP:20260425T021632Z
URL:https://business.moultriechamber.com/events/details/coffee-commerce-02-16-2023-13045
END:VEVENT

END:VCALENDAR
