BEGIN:VCALENDAR
VERSION:2.0
PRODID:-//ChamberMaster//Event Calendar 2.0//EN
METHOD:PUBLISH
X-PUBLISHED-TTL:P3D
REFRESH-INTERVAL:P3D
CALSCALE:GREGORIAN
BEGIN:VEVENT
DTSTART:20290403T220000Z
DTEND:20290403T230000Z
X-MICROSOFT-CDO-ALLDAYEVENT:FALSE
SUMMARY:City Council Meeting
DESCRIPTION:
X-ALT-DESC;FMTTYPE=text/html:
LOCATION:at City Hall\, Council Chambers
UID:e.570.11074
SEQUENCE:3
DTSTAMP:20260425T223059Z
URL:https://business.moultriechamber.com/events/details/city-council-meeting-04-03-2029-11074
END:VEVENT

END:VCALENDAR
