BEGIN:VCALENDAR
VERSION:2.0
PRODID:-//ChamberMaster//Event Calendar 2.0//EN
METHOD:PUBLISH
X-PUBLISHED-TTL:P3D
REFRESH-INTERVAL:P3D
CALSCALE:GREGORIAN
BEGIN:VEVENT
DTSTART:20270105T230000Z
DTEND:20270106T000000Z
X-MICROSOFT-CDO-ALLDAYEVENT:FALSE
SUMMARY:City Council Meeting
DESCRIPTION:
X-ALT-DESC;FMTTYPE=text/html:
LOCATION:at City Hall\, Council Chambers
UID:e.570.11047
SEQUENCE:3
DTSTAMP:20260424T052353Z
URL:https://business.moultriechamber.com/events/details/city-council-meeting-01-05-2027-11047
END:VEVENT

END:VCALENDAR
