BEGIN:VCALENDAR
VERSION:2.0
PRODID:-//ChamberMaster//Event Calendar 2.0//EN
METHOD:PUBLISH
X-PUBLISHED-TTL:P3D
REFRESH-INTERVAL:P3D
CALSCALE:GREGORIAN
BEGIN:VEVENT
DTSTART:20230609T140000Z
DTEND:20230609T150000Z
X-MICROSOFT-CDO-ALLDAYEVENT:FALSE
SUMMARY:Chehaw Animal ABC's at Main Street Park
DESCRIPTION:Chehaw Animal ABC's Main Street Park June 9th 10am
X-ALT-DESC;FMTTYPE=text/html:Chehaw Animal ABC&#39\;s Main Street Park June 9th 10am
LOCATION:Main Street Park
UID:e.570.13158
SEQUENCE:3
DTSTAMP:20260424T211010Z
URL:https://business.moultriechamber.com/events/details/chehaw-animal-abc-s-at-main-street-park-13158
END:VEVENT

END:VCALENDAR
