BEGIN:VCALENDAR
VERSION:2.0
PRODID:-//ChamberMaster//Event Calendar 2.0//EN
METHOD:PUBLISH
X-PUBLISHED-TTL:P3D
REFRESH-INTERVAL:P3D
CALSCALE:GREGORIAN
BEGIN:VEVENT
DTSTART:20230830T160000Z
DTEND:20230830T170000Z
X-MICROSOFT-CDO-ALLDAYEVENT:FALSE
SUMMARY:Chamber's Quarterly Membership Luncheon
DESCRIPTION:The MCC Chamber of Commerce will host their Quarterly Membership Luncheon on Wednesday\, August 30th - Location TBD. The attendees will hear from a guest speaker while enjoying lunch with other business leaders. This Quarterly Luncheon is sponsored by Quality Employment Service. To RSVP for the luncheon\, contact the Chamber at 985-2131. Tickets are $15 each.
X-ALT-DESC;FMTTYPE=text/html:The MCC Chamber of Commerce will host their Quarterly Membership Luncheon on Wednesday\, August 30th - Location TBD. The attendees will hear from a guest speaker while enjoying lunch with other business leaders. This Quarterly Luncheon is sponsored by Quality Employment Service. To RSVP for the luncheon\, contact the Chamber at 985-2131. Tickets are $15 each.
LOCATION:TBD
UID:e.570.13059
SEQUENCE:3
DTSTAMP:20260424T182143Z
URL:https://business.moultriechamber.com/events/details/chamber-s-quarterly-membership-luncheon-13059
END:VEVENT

END:VCALENDAR
