BEGIN:VCALENDAR
VERSION:2.0
PRODID:-//ChamberMaster//Event Calendar 2.0//EN
METHOD:PUBLISH
X-PUBLISHED-TTL:P3D
REFRESH-INTERVAL:P3D
CALSCALE:GREGORIAN
BEGIN:VEVENT
DTSTART:20231129T170000Z
DTEND:20231129T180000Z
X-MICROSOFT-CDO-ALLDAYEVENT:FALSE
SUMMARY:Chamber's Quarterly Membership Luncheon
DESCRIPTION:The MCC Chamber of Commerce will host their Quarterly Membership Luncheon on Wednesday\, November 29th - Location TBD. The attendees will hear from a special guest speaker while enjoying lunch with other business leaders. To RSVP for the luncheon\, contact the Chamber at 985-2131. Tickets are $15 each.
X-ALT-DESC;FMTTYPE=text/html:The MCC Chamber of Commerce will host their Quarterly Membership Luncheon on Wednesday\, November 29th - Location TBD. The attendees will hear from a special guest speaker while enjoying lunch with other business leaders. To RSVP for the luncheon\, contact the Chamber at 985-2131. Tickets are $15 each.
LOCATION:TBD
UID:e.570.13060
SEQUENCE:3
DTSTAMP:20260424T151930Z
URL:https://business.moultriechamber.com/events/details/chamber-s-quarterly-membership-luncheon-11-29-2023-13060
END:VEVENT

END:VCALENDAR
