BEGIN:VCALENDAR
VERSION:2.0
PRODID:-//ChamberMaster//Event Calendar 2.0//EN
METHOD:PUBLISH
X-PUBLISHED-TTL:P3D
REFRESH-INTERVAL:P3D
CALSCALE:GREGORIAN
BEGIN:VEVENT
DTSTART:20230616T120000Z
DTEND:20230616T220000Z
X-MICROSOFT-CDO-ALLDAYEVENT:FALSE
SUMMARY:Chamber's 26th Annual Golf Tournament
DESCRIPTION:The Chamber will host our 26th Annual Golf Tournament on Friday\, June 16\, 2023 at the Sunset Country Club. This will be a two-flight tournament that provides lunch for all players. Team prizes will be awarded to the top two teams for gross and net scores. To secure a team for the tournament\, contact the Chamber at 985-2131.
X-ALT-DESC;FMTTYPE=text/html:The Chamber will host our 26th Annual Golf Tournament on Friday\, June 16\, 2023 at the Sunset Country Club. This will be a two-flight tournament that provides lunch for all players. Team prizes will be awarded to the top two teams for gross and net scores. To secure a team for the tournament\, contact the Chamber at 985-2131.
LOCATION:Sunset Country Club Moultrie\, GA
UID:e.570.13054
SEQUENCE:3
DTSTAMP:20260424T210842Z
URL:https://business.moultriechamber.com/events/details/chamber-s-26th-annual-golf-tournament-13054
END:VEVENT

END:VCALENDAR
