BEGIN:VCALENDAR
VERSION:2.0
PRODID:-//ChamberMaster//Event Calendar 2.0//EN
METHOD:PUBLISH
X-PUBLISHED-TTL:P3D
REFRESH-INTERVAL:P3D
CALSCALE:GREGORIAN
BEGIN:VEVENT
DTSTART:20230614T160000Z
DTEND:20230614T170000Z
X-MICROSOFT-CDO-ALLDAYEVENT:FALSE
SUMMARY:Chamber Quarterly Membership Luncheon
DESCRIPTION:The MCC Chamber of Commerce will host their Quarterly Membership Luncheon on Wednesday\, June 14th - Location TBD. The attendees will hear from a guest speaker sharing about the Colquitt County Migrant Nurse Summer Program. These nurses play a vital role as they come to Colquitt County each summer to provide healthcare services. To RSVP for the luncheon\, contact the Chamber at 985-2131. Tickets are $15 each.
X-ALT-DESC;FMTTYPE=text/html:The MCC Chamber of Commerce will host their Quarterly Membership Luncheon on Wednesday\, June 14th - Location TBD. The attendees will hear from a guest speaker sharing about the Colquitt County Migrant Nurse Summer Program. These nurses play a vital role as they come to Colquitt County each summer to provide healthcare services. To RSVP for the luncheon\, contact the Chamber at 985-2131. Tickets are $15 each.
LOCATION:TBD - Stay Tuned!
UID:e.570.13053
SEQUENCE:3
DTSTAMP:20260424T210735Z
URL:https://business.moultriechamber.com/events/details/chamber-quarterly-membership-luncheon-13053
END:VEVENT

END:VCALENDAR
