BEGIN:VCALENDAR
VERSION:2.0
PRODID:-//ChamberMaster//Event Calendar 2.0//EN
METHOD:PUBLISH
X-PUBLISHED-TTL:P3D
REFRESH-INTERVAL:P3D
CALSCALE:GREGORIAN
BEGIN:VEVENT
DTSTART:20250612T120000Z
DTEND:20250612T130000Z
X-MICROSOFT-CDO-ALLDAYEVENT:FALSE
SUMMARY:Chamber 101
DESCRIPTION:Join us for Chamber 101\, an informational session designed to help you make the most of your Chamber membership! Whether you're looking to get started\, continue\, or deepen your engagement with the Chamber\, this session will guide you through the many benefits and opportunities available to you. Learn how to maximize networking events\, take advantage of marketing resources\, and engage in advocacy efforts that support local businesses. Beyond the educational aspect\, Chamber 101 is a great opportunity to connect with fellow business owners and entrepreneurs\, exchange ideas\, share experiences\, and build valuable relationships that could lead to potential collaborations and partnerships. Let us help you connect\, grow\, and succeed with the Moultrie-Colquitt County Chamber of Commerce!
X-ALT-DESC;FMTTYPE=text/html:<p dir="ltr" style="line-height:1.2\;margin-top:0pt\;margin-bottom:0pt\;"><br />\n<span style="font-size:14px\;"><span style="font-family:tahoma\;">Join us for Chamber 101\, an informational session designed to help you make the most of your Chamber membership! Whether you&#39\;re looking to get started\, continue\, or deepen your engagement with the Chamber\, this session will guide you through the many benefits and opportunities available to you. Learn how to maximize networking events\, take advantage of marketing resources\, and engage in advocacy efforts that support local businesses. Beyond the educational aspect\, Chamber 101 is a great opportunity to connect with fellow business owners and entrepreneurs\, exchange ideas\, share experiences\, and build valuable relationships that could lead to potential collaborations and partnerships. Let us help you connect\, grow\, and succeed with the Moultrie-Colquitt County Chamber of Commerce!</span></span></p>\n
LOCATION:This session will be held at the Moultrie-Colquitt County Chamber 3rd Floor
UID:e.570.13354
SEQUENCE:3
DTSTAMP:20260423T110239Z
URL:https://business.moultriechamber.com/events/details/chamber-101-13354
END:VEVENT

END:VCALENDAR
