BEGIN:VCALENDAR
VERSION:2.0
PRODID:-//ChamberMaster//Event Calendar 2.0//EN
METHOD:PUBLISH
X-PUBLISHED-TTL:P3D
REFRESH-INTERVAL:P3D
CALSCALE:GREGORIAN
BEGIN:VEVENT
DTSTART;VALUE=DATE:20230318
DTEND;VALUE=DATE:20230320
TRANSP:TRANSPARENT
X-MICROSOFT-CDO-ALLDAYEVENT:TRUE
SUMMARY:Calico Spring Arts and Crafts Show
DESCRIPTION:The Calico Arts and Crafts Show is a one-stop shopping extravaganza for Southwest Georgia and the surrounding area. From ornamental iron home and garden d cor\, to painted glass and antiques\, to whimsical painted children's furniture and accessories it's all together in one location. Approximately 300 vendors featuring fine arts\, handmade crafts and hand decorated items exhibit their lovingly made items so you'll feel really good supporting the local economy while acquiring unique gifts for your friends and family. In addition to the arts and crafts\, Calico offers a wide selection of mouth-watering food and refreshments. The show has become an established\, highly anticipated event held each March and November. The Calico Shows are held at Spence Field in Moultrie\, Georgia\, just 4 miles Southeast of Highway 319 on Highway 133. Free parking and easy access make it easy to start having fun immediately.\n\n\n\nThe exceptional quality of the arts and crafts is ensured through a jury process which receives approximately 500 applications from not only local craftsman\, but creative artisans from across the country. The shows are advertised by television\, radio\, flyers\, newspapers\, magazines\, and the internet. It is an excellent chance for you\, the vendor\, to sell your goods to a wide cross section of the Southeast. Don't miss the opportunity to be part of the excitement\, profit and fun!
X-ALT-DESC;FMTTYPE=text/html:The Calico Arts and Crafts Show is a one-stop shopping extravaganza for Southwest Georgia and the surrounding area. From ornamental iron home and garden d&eacute\;cor\, to painted glass and antiques\, to whimsical painted children&rsquo\;s furniture and accessories&hellip\;it&rsquo\;s all together in one location. Approximately 300 vendors featuring fine arts\, handmade crafts and hand decorated items exhibit their lovingly made items so you&rsquo\;ll feel really good supporting the local economy while acquiring unique gifts for your friends and family. In addition to the arts and crafts\, Calico offers a wide selection of mouth-watering food and refreshments. The show has become an established\, highly anticipated event held each March and November. The Calico Shows are held at Spence Field in Moultrie\, Georgia\, just 4 miles Southeast of Highway 319 on Highway 133. Free parking and easy access make it easy to start having fun immediately.<br />\n<br />\nThe exceptional quality of the arts and crafts is ensured through a jury process which receives approximately 500 applications from not only local craftsman\, but creative artisans from across the country. The shows are advertised by television\, radio\, flyers\, newspapers\, magazines\, and the internet. It is an excellent chance for you\, the vendor\, to sell your goods to a wide cross section of the Southeast. Don&rsquo\;t miss the opportunity to be part of the excitement\, profit and fun!
LOCATION:Spence Field\, Moultrie\, GA
UID:e.570.11310
SEQUENCE:3
DTSTAMP:20260425T010141Z
URL:https://business.moultriechamber.com/events/details/calico-spring-arts-and-crafts-show-03-20-2021-11310
END:VEVENT

END:VCALENDAR
