BEGIN:VCALENDAR
VERSION:2.0
PRODID:-//ChamberMaster//Event Calendar 2.0//EN
METHOD:PUBLISH
X-PUBLISHED-TTL:P3D
REFRESH-INTERVAL:P3D
CALSCALE:GREGORIAN
BEGIN:VEVENT
DTSTART:20250917T130000Z
DTEND:20250918T203000Z
X-MICROSOFT-CDO-ALLDAYEVENT:FALSE
SUMMARY:C.A. Gray FFA Mum Sale
DESCRIPTION:On September 17th and 18th\, the C.A. Gray FFA Chapter will host its annual Mum Sale from 9:00 a.m.   4:30 p.m. Mums are just $20 each and are large\, full of blooms\, and perfect for brightening up your home for fall.\n\nSupport the C.A. Gray FFA by purchasing your mums and get your home ready for the cooler weather!\n\nPick-Up: Wednesday\, Sept. 17th & Thursday\, Sept. 18th | 9:00 a.m.   4:30 p.m.
X-ALT-DESC;FMTTYPE=text/html:<p data-end="366" data-start="85"><br />\n<span style="font-size:18px\;">On <strong data-end="165" data-start="138">September 17th and 18th</strong>\, the C.A. Gray FFA Chapter will host its annual <em data-end="224" data-start="214">Mum Sale</em> from <strong data-end="255" data-start="230">9:00 a.m. &ndash\; 4:30 p.m.</strong> Mums are just <strong data-end="282" data-start="270">$20 each</strong> and are large\, full of blooms\, and perfect for brightening up your home for fall.</span></p>\n\n<p data-end="467" data-start="368"><span style="font-size:18px\;">Support the C.A. Gray FFA by purchasing your mums and get your home ready for the cooler weather!</span></p>\n\n<p data-end="601" data-start="469"><span style="font-size:18px\;">Pick-Up: Wednesday\, Sept. 17th &amp\; Thursday\, Sept. 18th | 9:00 a.m. &ndash\; 4:30 p.m.</span></p>\n
LOCATION:C.A. Gray High School At the greenhouse on Elliot Brown Street 3010 812 11th Ave NW\, Moultrie
UID:e.570.13409
SEQUENCE:3
DTSTAMP:20260423T094230Z
URL:https://business.moultriechamber.com/events/details/c-a-gray-ffa-mum-sale-13409
END:VEVENT

END:VCALENDAR
