BEGIN:VCALENDAR
VERSION:2.0
PRODID:-//ChamberMaster//Event Calendar 2.0//EN
METHOD:PUBLISH
X-PUBLISHED-TTL:P3D
REFRESH-INTERVAL:P3D
CALSCALE:GREGORIAN
BEGIN:VEVENT
DTSTART:20241003T213000Z
DTEND:20241003T223000Z
X-MICROSOFT-CDO-ALLDAYEVENT:FALSE
SUMMARY:Business After Hours hosted by Turner's Budget Furniture Outlet
DESCRIPTION:Join us for a great opportunity to meet and connect with other businesses in our community. Meet - Mingle - Make Connections!!
X-ALT-DESC;FMTTYPE=text/html:<span style="font-family:times new roman\;"><span style="font-size:16px\;"><span style="color: rgb(57\, 54\, 79)\; font-variant-ligatures: none\;">Join us for a great opportunity to meet and connect with other businesses in our community. Meet - Mingle - Make Connections!!</span></span></span>
LOCATION:575 Veterans Pkwy N\, Moultrie\, GA 31768
UID:e.570.13295
SEQUENCE:3
DTSTAMP:20260424T012955Z
URL:https://business.moultriechamber.com/events/details/business-after-hours-hosted-by-turner-s-budget-furniture-outlet-13295
END:VEVENT

END:VCALENDAR
