BEGIN:VCALENDAR
VERSION:2.0
PRODID:-//ChamberMaster//Event Calendar 2.0//EN
METHOD:PUBLISH
X-PUBLISHED-TTL:P3D
REFRESH-INTERVAL:P3D
CALSCALE:GREGORIAN
BEGIN:VEVENT
DTSTART:20260129T223000Z
DTEND:20260129T233000Z
X-MICROSOFT-CDO-ALLDAYEVENT:FALSE
SUMMARY:Business After Hours hosted by the Chamber!
DESCRIPTION:Business After Hours is the perfect opportunity to unwind after the workday while building meaningful connections. This casual networking event allows you to establish new relationships\, strengthen existing ones\, and make valuable business contacts in a relaxed and engaging atmosphere. Join us for a great opportunity to meet\, connect\, and collaborate with other businesses in our community.\n\nMeet   Mingle   Make Connections!
X-ALT-DESC;FMTTYPE=text/html:<p data-end="392" data-start="0"><br />\n<span style="font-size:16px\;">Business After Hours is the perfect opportunity to unwind after the workday while building meaningful connections. This casual networking event allows you to establish new relationships\, strengthen existing ones\, and make valuable business contacts in a relaxed and engaging atmosphere. Join us for a great opportunity to meet\, connect\, and collaborate with other businesses in our community.</span></p>\n\n<p data-end="427" data-is-last-node="" data-is-only-node="" data-start="394"><span style="font-size:16px\;">Meet &bull\; Mingle &bull\; Make Connections!</span></p>\n
LOCATION:Bandwagon Brewing Company 33 W Central Ave\, Moultrie
UID:e.570.13488
SEQUENCE:3
DTSTAMP:20260423T122906Z
URL:https://business.moultriechamber.com/events/details/business-after-hours-hosted-by-the-chamber-13488
END:VEVENT

END:VCALENDAR
