BEGIN:VCALENDAR
VERSION:2.0
PRODID:-//ChamberMaster//Event Calendar 2.0//EN
METHOD:PUBLISH
X-PUBLISHED-TTL:P3D
REFRESH-INTERVAL:P3D
CALSCALE:GREGORIAN
BEGIN:VEVENT
DTSTART:20250925T213000Z
DTEND:20250925T223000Z
X-MICROSOFT-CDO-ALLDAYEVENT:FALSE
SUMMARY:Business After Hours hosted by Southwest Georgia Community Action Council
DESCRIPTION:Join us for a great opportunity to meet and connect with other businesses in our community! \n\nMeet - Mingle - Make Connections!!
X-ALT-DESC;FMTTYPE=text/html:<br />\n<span style="font-size:18px\;">Join us for a great opportunity to meet and connect with other businesses in our community!&nbsp\;<br />\nMeet - Mingle - Make Connections!!&nbsp\;</span>
LOCATION:Mulkey-Ndawula Event Center 910 1st Ave SE\, Moultrie\, GA 31768
UID:e.570.13313
SEQUENCE:3
DTSTAMP:20260423T142259Z
URL:https://business.moultriechamber.com/events/details/business-after-hours-hosted-by-southwest-georgia-community-action-council-13313
END:VEVENT

END:VCALENDAR
