BEGIN:VCALENDAR
VERSION:2.0
PRODID:-//ChamberMaster//Event Calendar 2.0//EN
METHOD:PUBLISH
X-PUBLISHED-TTL:P3D
REFRESH-INTERVAL:P3D
CALSCALE:GREGORIAN
BEGIN:VEVENT
DTSTART:20240416T213000Z
DTEND:20240416T223000Z
X-MICROSOFT-CDO-ALLDAYEVENT:FALSE
SUMMARY:Business After Hours Hosted by Kinetic Windstream
DESCRIPTION:Join us for a great opportunity to meet and connect with other businesses in our community. Meet - Mingle - Make Connections!!
X-ALT-DESC;FMTTYPE=text/html:<span style="font-family:times new roman\;"><span style="font-size:16px\;"><span style="color: rgb(57\, 54\, 79)\;">Join us for a great opportunity to meet and connect with other businesses in our community. Meet - Mingle - Make Connections!!</span></span></span>
LOCATION:Windstream 282 Industrial Dr Moultrie\, GA 31768
UID:e.570.13226
SEQUENCE:3
DTSTAMP:20260424T095336Z
URL:https://business.moultriechamber.com/events/details/business-after-hours-hosted-by-kinetic-windstream-13226
END:VEVENT

END:VCALENDAR
