BEGIN:VCALENDAR
VERSION:2.0
PRODID:-//ChamberMaster//Event Calendar 2.0//EN
METHOD:PUBLISH
X-PUBLISHED-TTL:P3D
REFRESH-INTERVAL:P3D
CALSCALE:GREGORIAN
BEGIN:VEVENT
DTSTART:20250814T213000Z
DTEND:20250814T223000Z
X-MICROSOFT-CDO-ALLDAYEVENT:FALSE
SUMMARY:Business After Hours hosted by Hat Creek Restoration\, LLC
DESCRIPTION:Join us for a great opportunity to meet and connect with other businesses in our community! \n\nMeet - Mingle - Make Connections!!
X-ALT-DESC;FMTTYPE=text/html:<br />\n<span style="font-size:14px\;">Join us for a great opportunity to meet and connect with other businesses in our community!&nbsp\;<br />\nMeet - Mingle - Make Connections!!&nbsp\;</span>
LOCATION:Hat Creek Restoration 1996 Sylvester Hwy\, Moultrie\, GA 31768
UID:e.570.13309
SEQUENCE:3
DTSTAMP:20260423T110741Z
URL:https://business.moultriechamber.com/events/details/business-after-hours-hosted-by-hat-creek-restoration-llc-13309
END:VEVENT

END:VCALENDAR
