BEGIN:VCALENDAR
VERSION:2.0
PRODID:-//ChamberMaster//Event Calendar 2.0//EN
METHOD:PUBLISH
X-PUBLISHED-TTL:P3D
REFRESH-INTERVAL:P3D
CALSCALE:GREGORIAN
BEGIN:VEVENT
DTSTART:20240321T213000Z
DTEND:20240321T223000Z
X-MICROSOFT-CDO-ALLDAYEVENT:FALSE
SUMMARY:Business After Hours hosted by AgGeorgia & South Ga Crop Insurance\, Inc.
DESCRIPTION:Join us for a great opportunity to meet and connect with other businesses in our community. Meet - Mingle - Make Connections!!
X-ALT-DESC;FMTTYPE=text/html:<span style="font-size:18px\;"><span style="font-family:times new roman\;"><span style="color: rgb(57\, 54\, 79)\;">Join us for a great opportunity to meet and connect with other businesses in our community. Meet - Mingle - Make Connections!!</span></span></span>
LOCATION:South Ga Crop Insurance 697 GA-111 Moultrie\, Ga
UID:e.570.13225
SEQUENCE:3
DTSTAMP:20260424T110204Z
URL:https://business.moultriechamber.com/events/details/business-after-hours-hosted-by-aggeorgia-south-ga-crop-insurance-inc-13225
END:VEVENT

END:VCALENDAR
