BEGIN:VCALENDAR
VERSION:2.0
PRODID:-//ChamberMaster//Event Calendar 2.0//EN
METHOD:PUBLISH
X-PUBLISHED-TTL:P3D
REFRESH-INTERVAL:P3D
CALSCALE:GREGORIAN
BEGIN:VEVENT
DTSTART:20240125T223000Z
DTEND:20240125T233000Z
X-MICROSOFT-CDO-ALLDAYEVENT:FALSE
SUMMARY:Business After Hours
DESCRIPTION:Join us  for a great opportunity to meet and connect with other businesses in our community. \n\nMeet - Mingle - Make Connections!
X-ALT-DESC;FMTTYPE=text/html:<span style="font-size:16px\;"><span style="font-family:times new roman\;">Join us&nbsp\; for a great opportunity to meet and connect with other businesses in our community.&nbsp\;<br />\nMeet - Mingle - Make Connections!</span></span>
LOCATION:TBD.
UID:e.570.13221
SEQUENCE:3
DTSTAMP:20260424T122529Z
URL:https://business.moultriechamber.com/events/details/business-after-hours-13221
END:VEVENT

END:VCALENDAR
