BEGIN:VCALENDAR
VERSION:2.0
PRODID:-//ChamberMaster//Event Calendar 2.0//EN
METHOD:PUBLISH
X-PUBLISHED-TTL:P3D
REFRESH-INTERVAL:P3D
CALSCALE:GREGORIAN
BEGIN:VEVENT
DTSTART:20231109T223000Z
DTEND:20231109T233000Z
X-MICROSOFT-CDO-ALLDAYEVENT:FALSE
SUMMARY:Business After Hours
DESCRIPTION:End your business day with us as we have Business After Hours on Thursday\, November 9th at Quality Employment Service. This FREE networking event will provide opportunities to attendees to make connections and build strong business relationships. There will be drinks and light refreshments plus door prizes! RSVP at 985-2131 to have your name added to the attendee list.
X-ALT-DESC;FMTTYPE=text/html:End your business day with us as we have Business After Hours on Thursday\, November 9th at Quality Employment Service. This FREE networking event will provide opportunities to attendees to make connections and build strong business relationships. There will be drinks and light refreshments plus door prizes! RSVP at 985-2131 to have your name added to the attendee list.
LOCATION:Quality Employment Service 713 South Main Street Moultrie\, GA
UID:e.570.13056
SEQUENCE:3
DTSTAMP:20260424T162730Z
URL:https://business.moultriechamber.com/events/details/business-after-hours-11-09-2023-13056
END:VEVENT

END:VCALENDAR
