BEGIN:VCALENDAR
VERSION:2.0
PRODID:-//ChamberMaster//Event Calendar 2.0//EN
METHOD:PUBLISH
X-PUBLISHED-TTL:P3D
REFRESH-INTERVAL:P3D
CALSCALE:GREGORIAN
BEGIN:VEVENT
DTSTART:20230921T213000Z
DTEND:20230921T223000Z
X-MICROSOFT-CDO-ALLDAYEVENT:FALSE
SUMMARY:Business After Hours
DESCRIPTION:End your business day with us as we have Business After Hours on Thursday\, September 21st at Prospex Promotions. This FREE networking event will provide opportunities to attendees to make connections and build strong business relationships. There will be drinks and light refreshments plus door prizes! RSVP at 985-2131 to have your name added to the attendee list.
X-ALT-DESC;FMTTYPE=text/html:End your business day with us as we have Business After Hours on Thursday\, September 21st at Prospex Promotions. This FREE networking event will provide opportunities to attendees to make connections and build strong business relationships. There will be drinks and light refreshments plus door prizes! RSVP at 985-2131 to have your name added to the attendee list.
LOCATION:Prospex Promotions 25 East Central Ave Moultrie\, GA
UID:e.570.13055
SEQUENCE:3
DTSTAMP:20260424T172412Z
URL:https://business.moultriechamber.com/events/details/business-after-hours-09-21-2023-13055
END:VEVENT

END:VCALENDAR
