BEGIN:VCALENDAR
VERSION:2.0
PRODID:-//ChamberMaster//Event Calendar 2.0//EN
METHOD:PUBLISH
X-PUBLISHED-TTL:P3D
REFRESH-INTERVAL:P3D
CALSCALE:GREGORIAN
BEGIN:VEVENT
DTSTART:20230630T143000Z
DTEND:20230630T150000Z
X-MICROSOFT-CDO-ALLDAYEVENT:FALSE
SUMMARY:Bookies & Cookies @ the Library
DESCRIPTION:Bring the family and leave the snacks to us. We'll discuss a different book and theme each week and do a fun extension activity
X-ALT-DESC;FMTTYPE=text/html:Bring the family and leave the snacks to us. We&rsquo\;ll discuss a different book and theme each week and do a fun extension activity
LOCATION:Moultrie\, Library 204 5th St\, SE Moultrie\, GA
UID:e.570.13145
SEQUENCE:3
DTSTAMP:20260424T210945Z
URL:https://business.moultriechamber.com/events/details/bookies-cookies-the-library-06-30-2023-13145
END:VEVENT

END:VCALENDAR
