BEGIN:VCALENDAR
VERSION:2.0
PRODID:-//ChamberMaster//Event Calendar 2.0//EN
METHOD:PUBLISH
X-PUBLISHED-TTL:P3D
REFRESH-INTERVAL:P3D
CALSCALE:GREGORIAN
BEGIN:VEVENT
DTSTART:20230204T130000Z
DTEND:20230204T170000Z
X-MICROSOFT-CDO-ALLDAYEVENT:FALSE
SUMMARY:Babysitters Class
DESCRIPTION:Created by industry-leading experts\, the American Red Cross' Babysitting Basics class covers a wide range of information that can help new babysitters gain the skills and confidence needed to care for infants and children. The course takes approximately 4 hours to complete and includes information on:   How to care for infants and children   What to do in an emergency and how to stay safe   Choosing activities that are age appropriate   Recognizing\, understanding and handling certain behaviors   Starting your babysitting business The Babysitting Basics course culminates with a final exam. Upon successful completion\, participants will receive a printable certificate that they can share with potential employers. First Aid\, CPR & AED Training Available as a complement to the Red Cross' Babysitting Basics class are our First Aid and CPR/AED certification courses. These classes allow you to gain the skills needed to provide first aid care\, administer CPR and use an AED correctly. Successful completion of these courses gives you a two-year certification and access to refresher materials   so you can test your skills and refresh your memory at any time during your certification period.
X-ALT-DESC;FMTTYPE=text/html:Created by industry-leading experts\, the American Red Cross&#39\; Babysitting Basics class covers a wide range of information that can help new babysitters gain the skills and confidence needed to care for infants and children. The course takes approximately 4 hours to complete and includes information on: &bull\; How to care for infants and children &bull\; What to do in an emergency and how to stay safe &bull\; Choosing activities that are age appropriate &bull\; Recognizing\, understanding and handling certain behaviors &bull\; Starting your babysitting business The Babysitting Basics course culminates with a final exam. Upon successful completion\, participants will receive a printable certificate that they can share with potential employers. First Aid\, CPR &amp\; AED Training Available as a complement to the Red Cross&#39\; Babysitting Basics class are our First Aid and CPR/AED certification courses. These classes allow you to gain the skills needed to provide first aid care\, administer CPR and use an AED correctly. Successful completion of these courses gives you a two-year certification and access to refresher materials &ndash\; so you can test your skills and refresh your memory at any time during your certification period.
LOCATION:Tommy Meredith Gym
UID:e.570.13019
SEQUENCE:3
DTSTAMP:20260425T021318Z
URL:https://business.moultriechamber.com/events/details/babysitters-class-13019
END:VEVENT

END:VCALENDAR
