BEGIN:VCALENDAR
VERSION:2.0
PRODID:-//ChamberMaster//Event Calendar 2.0//EN
METHOD:PUBLISH
X-PUBLISHED-TTL:P3D
REFRESH-INTERVAL:P3D
CALSCALE:GREGORIAN
BEGIN:VEVENT
DTSTART:20251122T140000Z
DTEND:20251122T190000Z
X-MICROSOFT-CDO-ALLDAYEVENT:FALSE
SUMMARY:Babysitter's Training - MCCPRA
DESCRIPTION:Gain the skills and confidence to become a trusted babysitter with this American Red Cross Babysitter's Training Course. Participants will learn essential child care techniques\, safety and emergency procedures\, and how to handle real-life situations with confidence and professionalism. \n\nThis course is prefect for teens and young adults who want to start babysitting or improve their caregiving skills. Upon completion\, participants will receive a certification from the American Red Cross.\n\n\n\nHosted by the Moultrie-Colquitt County Parks & Recreation Authority.
X-ALT-DESC;FMTTYPE=text/html:<br />\n<span style="font-size:16px\;">Gain the skills and confidence to become a trusted babysitter with this American Red Cross Babysitter&#39\;s Training Course. Participants will learn essential child care techniques\, safety and emergency procedures\, and how to handle real-life situations with confidence and professionalism.&nbsp\;<br />\nThis course is prefect for teens and young adults who want to start babysitting or improve their caregiving skills. Upon completion\, participants will receive a certification from the American Red Cross.<br />\n<br />\nHosted by the Moultrie-Colquitt County Parks &amp\; Recreation Authority.&nbsp\;</span>
LOCATION:Ryce Community Center 305 7th St NW
UID:e.570.13442
SEQUENCE:3
DTSTAMP:20260423T162503Z
URL:https://business.moultriechamber.com/events/details/babysitter-s-training-mccpra-13442
END:VEVENT

END:VCALENDAR
