BEGIN:VCALENDAR
VERSION:2.0
PRODID:-//ChamberMaster//Event Calendar 2.0//EN
METHOD:PUBLISH
X-PUBLISHED-TTL:P3D
REFRESH-INTERVAL:P3D
CALSCALE:GREGORIAN
BEGIN:VEVENT
DTSTART:20230909T120000Z
DTEND:20230909T160000Z
X-MICROSOFT-CDO-ALLDAYEVENT:FALSE
SUMMARY:Baby Sitting Basics
DESCRIPTION:American Red Cross Babysitting Basics Ages 11+ $35
X-ALT-DESC;FMTTYPE=text/html:American Red Cross Babysitting Basics Ages 11+ $35
LOCATION:https://secure.rec1.com/frontdesk
UID:e.570.13184
SEQUENCE:3
DTSTAMP:20260424T172044Z
URL:https://business.moultriechamber.com/events/details/baby-sitting-basics-13184
END:VEVENT

END:VCALENDAR
