BEGIN:VCALENDAR
VERSION:2.0
PRODID:-//ChamberMaster//Event Calendar 2.0//EN
METHOD:PUBLISH
X-PUBLISHED-TTL:P3D
REFRESH-INTERVAL:P3D
CALSCALE:GREGORIAN
BEGIN:VEVENT
DTSTART:20230621T141500Z
DTEND:20230621T150000Z
X-MICROSOFT-CDO-ALLDAYEVENT:FALSE
SUMMARY:Baby Bees
DESCRIPTION:Songs\, rhymes\, and more for the smallest summer readers.
X-ALT-DESC;FMTTYPE=text/html:Songs\, rhymes\, and more for the smallest summer readers.
LOCATION:Moultrie Library 204 5th St.\, SE Moultrie\, Ga
UID:e.570.13133
SEQUENCE:3
DTSTAMP:20260424T210720Z
URL:https://business.moultriechamber.com/events/details/baby-bees-06-21-2023-13133
END:VEVENT

END:VCALENDAR
