BEGIN:VCALENDAR
VERSION:2.0
PRODID:-//ChamberMaster//Event Calendar 2.0//EN
METHOD:PUBLISH
X-PUBLISHED-TTL:P3D
REFRESH-INTERVAL:P3D
CALSCALE:GREGORIAN
BEGIN:VEVENT
DTSTART:20230427T143000Z
DTEND:20230427T153000Z
X-MICROSOFT-CDO-ALLDAYEVENT:FALSE
SUMMARY:Baby Bees
DESCRIPTION:Stories\, songs\, rhymes\, and more for children ages 0-3. Storytime lasts around 20 minutes\, followed by playtime with age-appropriate toys.
X-ALT-DESC;FMTTYPE=text/html:Stories\, songs\, rhymes\, and more for children ages 0-3. Storytime lasts around 20 minutes\, followed by playtime with age-appropriate toys.
LOCATION:Moultrie Library 2o4 5th St.\, SE Moultrie\, Ga
UID:e.570.13105
SEQUENCE:3
DTSTAMP:20260425T010005Z
URL:https://business.moultriechamber.com/events/details/baby-bees-04-27-2023-13105
END:VEVENT

END:VCALENDAR
