BEGIN:VCALENDAR
VERSION:2.0
PRODID:-//ChamberMaster//Event Calendar 2.0//EN
METHOD:PUBLISH
X-PUBLISHED-TTL:P3D
REFRESH-INTERVAL:P3D
CALSCALE:GREGORIAN
BEGIN:VEVENT
DTSTART:20230209T151500Z
DTEND:20230209T160000Z
X-MICROSOFT-CDO-ALLDAYEVENT:FALSE
SUMMARY:Baby Bees
DESCRIPTION:A gentle storytime experience for very young children ages 0-3.
X-ALT-DESC;FMTTYPE=text/html:A gentle storytime experience for very young children ages 0-3.
LOCATION:Moultrie-Colquitt County Library 204 5th St. SE\, Moultrie\, GA
UID:e.570.13037
SEQUENCE:3
DTSTAMP:20260425T023157Z
URL:https://business.moultriechamber.com/events/details/baby-bees-02-09-2023-13037
END:VEVENT

END:VCALENDAR
