BEGIN:VCALENDAR
VERSION:2.0
PRODID:-//ChamberMaster//Event Calendar 2.0//EN
METHOD:PUBLISH
X-PUBLISHED-TTL:P3D
REFRESH-INTERVAL:P3D
CALSCALE:GREGORIAN
BEGIN:VEVENT
DTSTART:20230408T130000Z
DTEND:20230408T200000Z
X-MICROSOFT-CDO-ALLDAYEVENT:FALSE
SUMMARY:Autism Awareness Walk or Run
DESCRIPTION:The Autism Awareness Walk or Run will be held on April 8\, 2023\, at 1020 4th Street SW. This free community event is from 9am-4pm. Food\, Games\, Speakers\, Music\, and lots of fun
X-ALT-DESC;FMTTYPE=text/html:The Autism Awareness Walk or Run will be held on April 8\, 2023\, at 1020 4th Street SW. This free community event is from 9am-4pm. Food\, Games\, Speakers\, Music\, and lots of fun
LOCATION:1020 4th Street SW Moultrie\, GA
UID:e.570.13088
SEQUENCE:3
DTSTAMP:20260425T005103Z
URL:https://business.moultriechamber.com/events/details/autism-awareness-walk-or-run-13088
END:VEVENT

END:VCALENDAR
