BEGIN:VCALENDAR
VERSION:2.0
PRODID:-//ChamberMaster//Event Calendar 2.0//EN
METHOD:PUBLISH
X-PUBLISHED-TTL:P3D
REFRESH-INTERVAL:P3D
CALSCALE:GREGORIAN
BEGIN:VEVENT
DTSTART:20240116T150000Z
DTEND:20240116T170000Z
X-MICROSOFT-CDO-ALLDAYEVENT:FALSE
SUMMARY:Arts\, Crafts\, Games and Puzzles
DESCRIPTION:ARTS\, CRAFTS\, GAMES AND PUZZLES for ages 50 Plus will take place on Tuesday\, 16th from 10 AM-Noon. Join your friends at the Ryce Community Center for coffee and doughnuts and a leisurely morning enjoying one another's company\, create a simple craft or try your hand at an art project or puzzle. There is no charge\, but we would like to know you are joining us so just give us a call at the office to sign up.
X-ALT-DESC;FMTTYPE=text/html:ARTS\, CRAFTS\, GAMES AND PUZZLES for ages 50 Plus will take place on Tuesday\, 16th from 10 AM-Noon. Join your friends at the Ryce Community Center for coffee and doughnuts and a leisurely morning enjoying one another&rsquo\;s company\, create a simple craft or try your hand at an art project or puzzle. There is no charge\, but we would like to know you are joining us so just give us a call at the office to sign up.
LOCATION:Ryce Community Center
UID:e.570.13242
SEQUENCE:3
DTSTAMP:20260424T124055Z
URL:https://business.moultriechamber.com/events/details/arts-crafts-games-and-puzzles-13242
END:VEVENT

END:VCALENDAR
