BEGIN:VCALENDAR
VERSION:2.0
PRODID:-//ChamberMaster//Event Calendar 2.0//EN
METHOD:PUBLISH
X-PUBLISHED-TTL:P3D
REFRESH-INTERVAL:P3D
CALSCALE:GREGORIAN
BEGIN:VEVENT
DTSTART;VALUE=DATE:20251122
DTEND;VALUE=DATE:20251124
TRANSP:TRANSPARENT
X-MICROSOFT-CDO-ALLDAYEVENT:TRUE
SUMMARY:Artfest 2025
DESCRIPTION:Held annually each Fall\, ArtFest is a celebration of the arts with handmade local arts\, kids activities\, food\, and fun for the entire family. Register for the half marathon\, 10K\, 5K\, or Fun Run\, or just come for the festival! Medals will be awarded for all races. \n\nThe them for ArtFest 2025 is Pop Art in Motion! This year's event will celebrate Pop Art and feature educational trail signs\, balloon dart "pop" art for kids\, community art pieces\, raffles\, and brand new stickers!
X-ALT-DESC;FMTTYPE=text/html:<br />\n<span style="font-size:16px\;">Held annually each Fall\, ArtFest is a celebration of the arts with handmade local arts\, kids activities\, food\, and fun for the entire family. Register for the half marathon\, 10K\, 5K\, or Fun Run\, or just come for the festival! Medals will be awarded for all races.&nbsp\;<br />\nThe them for ArtFest 2025 is Pop Art in Motion! This year&#39\;s event will celebrate Pop Art and feature educational trail signs\, balloon dart &quot\;pop&quot\; art for kids\, community art pieces\, raffles\, and brand new stickers!&nbsp\;</span>
LOCATION:The Arts Center of Moultrie
UID:e.570.13440
SEQUENCE:3
DTSTAMP:20260423T162627Z
URL:https://business.moultriechamber.com/events/details/artfest-2025-13440
END:VEVENT

END:VCALENDAR
