BEGIN:VCALENDAR
VERSION:2.0
PRODID:-//ChamberMaster//Event Calendar 2.0//EN
METHOD:PUBLISH
X-PUBLISHED-TTL:P3D
REFRESH-INTERVAL:P3D
CALSCALE:GREGORIAN
BEGIN:VEVENT
DTSTART;VALUE=DATE:20231104
DTEND;VALUE=DATE:20231105
TRANSP:TRANSPARENT
X-MICROSOFT-CDO-ALLDAYEVENT:TRUE
SUMMARY:ArtFest
DESCRIPTION:The ArtFest Event including Half Marathon\, 5K\, 10K & Fun Run hosted by The Arts Center. More details coming soon!
X-ALT-DESC;FMTTYPE=text/html:The ArtFest Event including Half Marathon\, 5K\, 10K &amp\; Fun Run hosted by The Arts Center. More details coming soon!
LOCATION:The Arts Center 401 7th Avenue SW | Moultrie\, GA 31768
UID:e.570.13090
SEQUENCE:3
DTSTAMP:20260424T151543Z
URL:https://business.moultriechamber.com/events/details/artfest-13090
END:VEVENT

END:VCALENDAR
