BEGIN:VCALENDAR
VERSION:2.0
PRODID:-//ChamberMaster//Event Calendar 2.0//EN
METHOD:PUBLISH
X-PUBLISHED-TTL:P3D
REFRESH-INTERVAL:P3D
CALSCALE:GREGORIAN
BEGIN:VEVENT
DTSTART:20250130T230000Z
DTEND:20250131T030000Z
X-MICROSOFT-CDO-ALLDAYEVENT:FALSE
SUMMARY:Art of the Hunt Week - Whiskey & Wildlife
DESCRIPTION:The Art of the Hunt is a week-long celebration of local wildlife\, hunting culture\, and conservancy. Funds raised from these events help maintain our beautiful\, historic Arts Center campus as well as provide art supplies and education throughout our community.\n\nWhiskey & Wildlife - This year's gentleman's event featuring guest speaker Charlie English will be held downtown at Bandwagon Brewing Company. In addition to a catered dinner by Market BBQ\, bourbon\, beer\, and cigars will also be served. The night's festivities will include a gun raffle\, Cuban cigar auction\, and bourbon auction.
X-ALT-DESC;FMTTYPE=text/html:<span style="color: rgb(49\, 58\, 62)\; font-family: &quot\;Open Sans&quot\;\, &quot\;Helvetica Neue&quot\;\, Arial\, sans-serif\; font-size: 16px\;">The Art of the Hunt is a week-long celebration of local wildlife\, hunting culture\, and conservancy. Funds raised from these events help maintain our beautiful\, historic Arts Center campus as well as provide art supplies and education throughout our community.<br />\nWhiskey &amp\; Wildlife - This year&#39\;s gentleman&#39\;s event featuring guest speaker Charlie English will be held downtown at Bandwagon Brewing Company. In addition to a catered dinner by Market BBQ\, bourbon\, beer\, and cigars will also be served. The night&#39\;s festivities will include a gun raffle\, Cuban cigar auction\, and bourbon auction.</span>
LOCATION:Bandwagon Brewing
UID:e.570.13322
SEQUENCE:3
DTSTAMP:20260423T214125Z
URL:https://business.moultriechamber.com/events/details/art-of-the-hunt-week-whiskey-wildlife-13322
END:VEVENT

END:VCALENDAR
