BEGIN:VCALENDAR
VERSION:2.0
PRODID:-//ChamberMaster//Event Calendar 2.0//EN
METHOD:PUBLISH
X-PUBLISHED-TTL:P3D
REFRESH-INTERVAL:P3D
CALSCALE:GREGORIAN
BEGIN:VEVENT
DTSTART:20250204T230000Z
DTEND:20250205T030000Z
X-MICROSOFT-CDO-ALLDAYEVENT:FALSE
SUMMARY:Art of the Hunt Week - Field & Vine
DESCRIPTION:The Art of the Hunt is a week-long celebration of local wildlife\, hunting culture\, and conservancy. Funds raised from these events help maintain our beautiful\, historic Arts Center campus as well as provide art supplies and education throughout our community.\n\n Field & Vine - Always a sell-out event\, this night for ladies will be held in the Arts Center ballroom. Guests will be treated to a special presentation as they enjoy a seated dinner along with delicious wine pairings.
X-ALT-DESC;FMTTYPE=text/html:<span style="color: rgb(49\, 58\, 62)\; font-family: &quot\;Open Sans&quot\;\, &quot\;Helvetica Neue&quot\;\, Arial\, sans-serif\; font-size: 16px\;">The Art of the Hunt is a week-long celebration of local wildlife\, hunting culture\, and conservancy. Funds raised from these events help maintain our beautiful\, historic Arts Center campus as well as provide art supplies and education throughout our community.<br />\n&nbsp\;Field &amp\; Vine - Always a sell-out event\, this night for ladies will be held in the Arts Center ballroom. Guests will be treated to a special presentation as they enjoy a seated dinner along with delicious wine pairings.</span>
LOCATION:The Arts Center with seated dinner and wine pairings
UID:e.570.13323
SEQUENCE:3
DTSTAMP:20260423T203818Z
URL:https://business.moultriechamber.com/events/details/art-of-the-hunt-week-field-vine-13323
END:VEVENT

END:VCALENDAR
