BEGIN:VCALENDAR
VERSION:2.0
PRODID:-//ChamberMaster//Event Calendar 2.0//EN
METHOD:PUBLISH
X-PUBLISHED-TTL:P3D
REFRESH-INTERVAL:P3D
CALSCALE:GREGORIAN
BEGIN:VEVENT
DTSTART:20230622T140000Z
DTEND:20230622T150000Z
X-MICROSOFT-CDO-ALLDAYEVENT:FALSE
SUMMARY:Art in the Park
DESCRIPTION:The Moultrie service league & Art CENTER of Moultrie present art in the park at Main Street Park June 22nd 10am-11am
X-ALT-DESC;FMTTYPE=text/html:The Moultrie service league &amp\; Art CENTER of Moultrie present art in the park at Main Street Park June 22nd 10am-11am
LOCATION:Main Street Park
UID:e.570.13163
SEQUENCE:3
DTSTAMP:20260424T210617Z
URL:https://business.moultriechamber.com/events/details/art-in-the-park-13163
END:VEVENT

END:VCALENDAR
